BEGIN:VCALENDAR
VERSION:2.0
PRODID:-//ChamberMaster//Event Calendar 2.0//EN
METHOD:PUBLISH
X-PUBLISHED-TTL:P1H
REFRESH-INTERVAL:P1H
CALSCALE:GREGORIAN
BEGIN:VTIMEZONE
TZID:America/New_York
BEGIN:DAYLIGHT
RRULE:FREQ=YEARLY;BYMONTH=3;BYDAY=2SU
DTSTART:20070101T000000
TZOFFSETFROM:-0500
TZOFFSETTO:-0400
TZNAME:Eastern Daylight Time
END:DAYLIGHT
BEGIN:STANDARD
RRULE:FREQ=YEARLY;BYMONTH=11;BYDAY=1SU
DTSTART:20070101T000000
TZOFFSETFROM:-0400
TZOFFSETTO:-0500
TZNAME:Eastern Standard Time
END:STANDARD
END:VTIMEZONE
BEGIN:VEVENT
DTSTART;TZID=America/New_York:20260517T140000
DTEND;TZID=America/New_York:20260517T150000
X-MICROSOFT-CDO-ALLDAYEVENT:FALSE
SUMMARY:Brechner Speaker Series: The Fun and Quirky Side of Centennial Celebrations
DESCRIPTION:America's 250th anniversary brings a sense of pride and an opportunity for reflection. Join fashion historian Bonnie Hansen as she shares authentic bicentennial and sesquicentennial-era clothing and souvenirs from her personal collection. We will look back at fashion\, home furnishing trends\, locomotives\, fire hydrants\, and beyond as we explore fun and quirky celebrations of our nation's birthday in days past. Guests are encouraged to participate by bringing any bicentennial souvenirs you may have stashed in your personal collection.About Our Speaker\nBonnie Hansen is a fashion historian who has worked as a Hollywood costumer\, museum consultant\, and lecturer on women's history and fashion history. She has worked with notable organizations such as Titanic   The Exhibition\, the New Mexico History Museum\, and California State Historic Parks. Through her presentation\, we'll share some star-spangled stories and centennial milestone memories.About the Brechner Series\nThe History Center's Brechner Speaker Series honors the late Joseph L. Brechner\, a longtime journalist\, community leader\, and television pioneer who is also remembered as one of Orlando's first clear public voices for civil rights. The son of Eastern European immigrants\, Brechner believed deeply in American democracy and citizens' responsibilities to be informed and participate. The museum's research center\, home to the archival collection of the Historical Society of Central Florida\, also bears Brechner's name.Free with registration.
X-ALT-DESC;FMTTYPE=text/html:<!DOCTYPE html><html><head><title></title></head><body aria-disabled="false"><p style="box-sizing: border-box\; margin: 0px 0px 20px\; padding: 0px\; border: 0px\; font-style: normal\; font-variant-ligatures: normal\; font-variant-caps: normal\; font-variant-numeric: inherit\; font-variant-east-asian: inherit\; font-variant-alternates: inherit\; font-variant-position: inherit\; font-variant-emoji: inherit\; font-weight: 400\; font-stretch: inherit\; line-height: inherit\; font-family: Roboto\; font-optical-sizing: inherit\; font-size-adjust: inherit\; font-kerning: inherit\; font-feature-settings: inherit\; font-variation-settings: inherit\; font-language-override: inherit\; font-size: 14px\; color: rgb(51\, 51\, 51)\; letter-spacing: normal\; orphans: 2\; text-align: start\; text-indent: 0px\; text-transform: none\; widows: 2\; word-spacing: 0px\; -webkit-text-stroke-width: 0px\; white-space: normal\; background-color: rgb(255\, 255\, 255)\; text-decoration-thickness: initial\; text-decoration-style: initial\; text-decoration-color: initial\;">America&rsquo\;s 250th anniversary brings a sense of pride and an opportunity for reflection. Join fashion historian Bonnie Hansen as she shares authentic bicentennial and sesquicentennial-era clothing and souvenirs from her personal collection. We will look back at fashion\, home furnishing trends\, locomotives\, fire hydrants\, and beyond as we explore fun and quirky celebrations of our nation&rsquo\;s birthday in days past. Guests are encouraged to participate by bringing any bicentennial souvenirs you may have stashed in your personal collection.</p><p style="box-sizing: border-box\; margin: 0px 0px 20px\; padding: 0px\; border: 0px\; font-style: normal\; font-variant-ligatures: normal\; font-variant-caps: normal\; font-variant-numeric: inherit\; font-variant-east-asian: inherit\; font-variant-alternates: inherit\; font-variant-position: inherit\; font-variant-emoji: inherit\; font-weight: 400\; font-stretch: inherit\; line-height: inherit\; font-family: Roboto\; font-optical-sizing: inherit\; font-size-adjust: inherit\; font-kerning: inherit\; font-feature-settings: inherit\; font-variation-settings: inherit\; font-language-override: inherit\; font-size: 14px\; color: rgb(51\, 51\, 51)\; letter-spacing: normal\; orphans: 2\; text-align: start\; text-indent: 0px\; text-transform: none\; widows: 2\; word-spacing: 0px\; -webkit-text-stroke-width: 0px\; white-space: normal\; background-color: rgb(255\, 255\, 255)\; text-decoration-thickness: initial\; text-decoration-style: initial\; text-decoration-color: initial\;"><strong fr-original-style="box-sizing: border-box\; font-weight: 700\; margin: 0px\; padding: 0px\; border: 0px\; font-style: inherit\; font-variant: inherit\; font-stretch: inherit\; line-height: inherit\; font-family: inherit\; font-optical-sizing: inherit\; font-size-adjust: inherit\; font-kerning: inherit\; font-feature-settings: inherit\; font-variation-settings: inherit\; font-language-override: inherit\; font-size: 14px\;" style="box-sizing: border-box\; font-weight: 700\; margin: 0px\; padding: 0px\; border: 0px\; font-style: inherit\; font-variant: inherit\; font-stretch: inherit\; line-height: inherit\; font-family: inherit\; font-optical-sizing: inherit\; font-size-adjust: inherit\; font-kerning: inherit\; font-feature-settings: inherit\; font-variation-settings: inherit\; font-language-override: inherit\; font-size: 14px\;">About Our Speaker<br style="box-sizing: border-box\;"></strong>Bonnie Hansen is a fashion historian who has worked as a Hollywood costumer\, museum consultant\, and lecturer on women&rsquo\;s history and fashion history. She has worked with notable organizations such as&nbsp\;<em style="box-sizing: border-box\; margin: 0px\; padding: 0px\; border: 0px\; font-style: italic\; font-variant: inherit\; font-weight: inherit\; font-stretch: inherit\; line-height: inherit\; font-family: inherit\; font-optical-sizing: inherit\; font-size-adjust: inherit\; font-kerning: inherit\; font-feature-settings: inherit\; font-variation-settings: inherit\; font-language-override: inherit\; font-size: 14px\;">Titanic &ndash\; The Exhibition</em>\, the New Mexico History Museum\, and California State Historic Parks. Through her presentation\, we&rsquo\;ll share some star-spangled stories and centennial milestone memories.</p><p style="box-sizing: border-box\; margin: 0px 0px 20px\; padding: 0px\; border: 0px\; font-style: normal\; font-variant-ligatures: normal\; font-variant-caps: normal\; font-variant-numeric: inherit\; font-variant-east-asian: inherit\; font-variant-alternates: inherit\; font-variant-position: inherit\; font-variant-emoji: inherit\; font-weight: 400\; font-stretch: inherit\; line-height: inherit\; font-family: Roboto\; font-optical-sizing: inherit\; font-size-adjust: inherit\; font-kerning: inherit\; font-feature-settings: inherit\; font-variation-settings: inherit\; font-language-override: inherit\; font-size: 14px\; color: rgb(51\, 51\, 51)\; letter-spacing: normal\; orphans: 2\; text-align: start\; text-indent: 0px\; text-transform: none\; widows: 2\; word-spacing: 0px\; -webkit-text-stroke-width: 0px\; white-space: normal\; background-color: rgb(255\, 255\, 255)\; text-decoration-thickness: initial\; text-decoration-style: initial\; text-decoration-color: initial\;"><strong fr-original-style="box-sizing: border-box\; font-weight: 700\; margin: 0px\; padding: 0px\; border: 0px\; font-style: inherit\; font-variant: inherit\; font-stretch: inherit\; line-height: inherit\; font-family: inherit\; font-optical-sizing: inherit\; font-size-adjust: inherit\; font-kerning: inherit\; font-feature-settings: inherit\; font-variation-settings: inherit\; font-language-override: inherit\; font-size: 14px\;" style="box-sizing: border-box\; font-weight: 700\; margin: 0px\; padding: 0px\; border: 0px\; font-style: inherit\; font-variant: inherit\; font-stretch: inherit\; line-height: inherit\; font-family: inherit\; font-optical-sizing: inherit\; font-size-adjust: inherit\; font-kerning: inherit\; font-feature-settings: inherit\; font-variation-settings: inherit\; font-language-override: inherit\; font-size: 14px\;">About the Brechner Series</strong><br style="box-sizing: border-box\;">The History Center&rsquo\;s Brechner Speaker Series honors the late Joseph L. Brechner\, a longtime journalist\, community leader\, and television pioneer who is also remembered as one of Orlando&rsquo\;s first clear public voices for civil rights. The son of Eastern European immigrants\, Brechner believed deeply in American democracy and citizens&rsquo\; responsibilities to be informed and participate. The museum&rsquo\;s research center\, home to the archival collection of the Historical Society of Central Florida\, also bears Brechner&rsquo\;s name.</p><p style="box-sizing: border-box\; margin: 0px 0px 20px\; padding: 0px\; border: 0px\; font-style: normal\; font-variant-ligatures: normal\; font-variant-caps: normal\; font-variant-numeric: inherit\; font-variant-east-asian: inherit\; font-variant-alternates: inherit\; font-variant-position: inherit\; font-variant-emoji: inherit\; font-weight: 400\; font-stretch: inherit\; line-height: inherit\; font-family: Roboto\; font-optical-sizing: inherit\; font-size-adjust: inherit\; font-kerning: inherit\; font-feature-settings: inherit\; font-variation-settings: inherit\; font-language-override: inherit\; font-size: 14px\; color: rgb(51\, 51\, 51)\; letter-spacing: normal\; orphans: 2\; text-align: start\; text-indent: 0px\; text-transform: none\; widows: 2\; word-spacing: 0px\; -webkit-text-stroke-width: 0px\; white-space: normal\; background-color: rgb(255\, 255\, 255)\; text-decoration-thickness: initial\; text-decoration-style: initial\; text-decoration-color: initial\;">Free with <a fr-original-style="" href="https://www.thehistorycenter.org/event/brechner-series-centennial-celebrations/" style="user-select: auto\;">registration</a>.&nbsp\;</p></body></html>
LOCATION:
UID:e.2498.1438759
SEQUENCE:3
DTSTAMP:20260422T084909Z
URL:https://members.doporlando.com/dop-events/Details/brechner-speaker-series-the-fun-and-quirky-side-of-centennial-celebrations-1702960?sourceTypeId=Hub
END:VEVENT
END:VCALENDAR
