BEGIN:VCALENDAR
VERSION:2.0
PRODID:-//ChamberMaster//Event Calendar 2.0//EN
METHOD:PUBLISH
X-PUBLISHED-TTL:P1H
REFRESH-INTERVAL:P1H
CALSCALE:GREGORIAN
BEGIN:VTIMEZONE
TZID:America/New_York
BEGIN:DAYLIGHT
RRULE:FREQ=YEARLY;BYMONTH=3;BYDAY=2SU
DTSTART:20070101T000000
TZOFFSETFROM:-0500
TZOFFSETTO:-0400
TZNAME:Eastern Daylight Time
END:DAYLIGHT
BEGIN:STANDARD
RRULE:FREQ=YEARLY;BYMONTH=11;BYDAY=1SU
DTSTART:20070101T000000
TZOFFSETFROM:-0400
TZOFFSETTO:-0500
TZNAME:Eastern Standard Time
END:STANDARD
END:VTIMEZONE
BEGIN:VEVENT
DTSTART;VALUE=DATE:20260405
DTEND;VALUE=DATE:20260406
TRANSP:TRANSPARENT
X-MICROSOFT-CDO-ALLDAYEVENT:TRUE
SUMMARY:Easter Sunday Celebration at I Love Orlando Café
DESCRIPTION:Celebrate Easter Sunday in the heart of Downtown Orlando at I Love Orlando Café.\n\nEnjoy a festive and family-friendly experience featuring live music\, a welcoming atmosphere\, and a special visit from the Easter Bunny. Whether you’re joining us for brunch or stopping by after exploring Downtown\, we offer the perfect setting to celebrate with loved ones.\n\nWith breakfast served all day and a menu designed for all tastes\, this is your Easter destination in Downtown Orlando.
X-ALT-DESC;FMTTYPE=text/html:Celebrate Easter Sunday in the heart of Downtown Orlando at I Love Orlando Café.\n\nEnjoy a festive and family-friendly experience featuring live music\, a welcoming atmosphere\, and a special visit from the Easter Bunny. Whether you’re joining us for brunch or stopping by after exploring Downtown\, we offer the perfect setting to celebrate with loved ones.\n\nWith breakfast served all day and a menu designed for all tastes\, this is your Easter destination in Downtown Orlando.
LOCATION:151 E Washington St. Orlando FL 32801
UID:e.2498.1434311
SEQUENCE:3
DTSTAMP:20260422T085722Z
URL:https://members.doporlando.com/dop-events/Details/easter-sunday-celebration-at-i-love-orlando-caf-1697860?sourceTypeId=Hub
END:VEVENT
END:VCALENDAR
