BEGIN:VCALENDAR
VERSION:2.0
PRODID:-//ChamberMaster//Event Calendar 2.0//EN
METHOD:PUBLISH
X-PUBLISHED-TTL:P1H
REFRESH-INTERVAL:P1H
CALSCALE:GREGORIAN
BEGIN:VTIMEZONE
TZID:America/New_York
BEGIN:DAYLIGHT
RRULE:FREQ=YEARLY;BYMONTH=3;BYDAY=2SU
DTSTART:20070101T000000
TZOFFSETFROM:-0500
TZOFFSETTO:-0400
TZNAME:Eastern Daylight Time
END:DAYLIGHT
BEGIN:STANDARD
RRULE:FREQ=YEARLY;BYMONTH=11;BYDAY=1SU
DTSTART:20070101T000000
TZOFFSETFROM:-0400
TZOFFSETTO:-0500
TZNAME:Eastern Standard Time
END:STANDARD
END:VTIMEZONE
BEGIN:VEVENT
DTSTART;TZID=America/New_York:20260502T100000
DTEND;TZID=America/New_York:20260502T170000
X-MICROSOFT-CDO-ALLDAYEVENT:FALSE
SUMMARY:Free Access Day: America 250 Celebration
DESCRIPTION:Celebrate 250 years of American history with the History Center and enjoy free admission. The day will include theatrical and musical performances\, guided museum tours\, hands-on activities led by our Teen Council\, mock trials in our historic courtroom\, and more.Schedule\n10 a.m.   National Anthem by CFCArts\, opening remarks\, and flag ceremony (Sons of the American Revolution)\n10:20 a.m.   Outdoor concert by CFCArts featuring classic American hits\n11:30 a.m.\, 12:30 p.m.\, and 2:30 p.m.   Mock trials in our historic courtroom\n1 p.m.   Panel discussion with local journalists\n3:30 p.m.   Performance by the Children of the American Revolution of The American Revolution: 1783   1789 by Ron Fink and John HeathEnjoy hands-on activities and museum tours throughout the day.Thank you to our partners\, including the Smithsonian's Democracy in Dialogue Virtual Exchange Program\, which makes our Teen Council possible.\n\nPresenting Sponsor: Orlando Health Arnold Palmer Hospital for Children\nAdditional Support: Downtown Development Board
X-ALT-DESC;FMTTYPE=text/html:<!DOCTYPE html><html><head><title></title></head><body aria-disabled="false"><p style="box-sizing: border-box\; margin: 0px 0px 20px\; padding: 0px\; border: 0px\; font-style: normal\; font-variant-ligatures: normal\; font-variant-caps: normal\; font-variant-numeric: inherit\; font-variant-east-asian: inherit\; font-variant-alternates: inherit\; font-variant-position: inherit\; font-variant-emoji: inherit\; font-weight: 400\; font-stretch: inherit\; line-height: inherit\; font-family: Roboto\; font-optical-sizing: inherit\; font-size-adjust: inherit\; font-kerning: inherit\; font-feature-settings: inherit\; font-variation-settings: inherit\; font-language-override: inherit\; font-size: 14px\; color: rgb(51\, 51\, 51)\; letter-spacing: normal\; orphans: 2\; text-align: start\; text-indent: 0px\; text-transform: none\; widows: 2\; word-spacing: 0px\; -webkit-text-stroke-width: 0px\; white-space: normal\; background-color: rgb(255\, 255\, 255)\; text-decoration-thickness: initial\; text-decoration-style: initial\; text-decoration-color: initial\;">Celebrate 250 years of American history with the History Center and enjoy free admission. The day will include theatrical and musical performances\, guided museum tours\, hands-on activities led by our Teen Council\, mock trials in our historic courtroom\, and more.</p><p style="box-sizing: border-box\; margin: 0px 0px 20px\; padding: 0px\; border: 0px\; font-style: normal\; font-variant-ligatures: normal\; font-variant-caps: normal\; font-variant-numeric: inherit\; font-variant-east-asian: inherit\; font-variant-alternates: inherit\; font-variant-position: inherit\; font-variant-emoji: inherit\; font-weight: 400\; font-stretch: inherit\; line-height: inherit\; font-family: Roboto\; font-optical-sizing: inherit\; font-size-adjust: inherit\; font-kerning: inherit\; font-feature-settings: inherit\; font-variation-settings: inherit\; font-language-override: inherit\; font-size: 14px\; color: rgb(51\, 51\, 51)\; letter-spacing: normal\; orphans: 2\; text-align: start\; text-indent: 0px\; text-transform: none\; widows: 2\; word-spacing: 0px\; -webkit-text-stroke-width: 0px\; white-space: normal\; background-color: rgb(255\, 255\, 255)\; text-decoration-thickness: initial\; text-decoration-style: initial\; text-decoration-color: initial\;"><strong fr-original-style="box-sizing: border-box\; font-weight: 700\; margin: 0px\; padding: 0px\; border: 0px\; font-style: inherit\; font-variant: inherit\; font-stretch: inherit\; line-height: inherit\; font-family: inherit\; font-optical-sizing: inherit\; font-size-adjust: inherit\; font-kerning: inherit\; font-feature-settings: inherit\; font-variation-settings: inherit\; font-language-override: inherit\; font-size: 14px\;" style="box-sizing: border-box\; font-weight: 700\; margin: 0px\; padding: 0px\; border: 0px\; font-style: inherit\; font-variant: inherit\; font-stretch: inherit\; line-height: inherit\; font-family: inherit\; font-optical-sizing: inherit\; font-size-adjust: inherit\; font-kerning: inherit\; font-feature-settings: inherit\; font-variation-settings: inherit\; font-language-override: inherit\; font-size: 14px\;">Schedule<br style="box-sizing: border-box\;">10 a.m.&nbsp\;</strong>&ndash\; National Anthem by CFCArts\, opening remarks\, and flag ceremony (Sons of the American Revolution)<br style="box-sizing: border-box\;"><strong fr-original-style="box-sizing: border-box\; font-weight: 700\; margin: 0px\; padding: 0px\; border: 0px\; font-style: inherit\; font-variant: inherit\; font-stretch: inherit\; line-height: inherit\; font-family: inherit\; font-optical-sizing: inherit\; font-size-adjust: inherit\; font-kerning: inherit\; font-feature-settings: inherit\; font-variation-settings: inherit\; font-language-override: inherit\; font-size: 14px\;" style="box-sizing: border-box\; font-weight: 700\; margin: 0px\; padding: 0px\; border: 0px\; font-style: inherit\; font-variant: inherit\; font-stretch: inherit\; line-height: inherit\; font-family: inherit\; font-optical-sizing: inherit\; font-size-adjust: inherit\; font-kerning: inherit\; font-feature-settings: inherit\; font-variation-settings: inherit\; font-language-override: inherit\; font-size: 14px\;">10:20 a.m.</strong> &ndash\; Outdoor concert by CFCArts featuring classic American hits<br style="box-sizing: border-box\;"><strong fr-original-style="box-sizing: border-box\; font-weight: 700\; margin: 0px\; padding: 0px\; border: 0px\; font-style: inherit\; font-variant: inherit\; font-stretch: inherit\; line-height: inherit\; font-family: inherit\; font-optical-sizing: inherit\; font-size-adjust: inherit\; font-kerning: inherit\; font-feature-settings: inherit\; font-variation-settings: inherit\; font-language-override: inherit\; font-size: 14px\;" style="box-sizing: border-box\; font-weight: 700\; margin: 0px\; padding: 0px\; border: 0px\; font-style: inherit\; font-variant: inherit\; font-stretch: inherit\; line-height: inherit\; font-family: inherit\; font-optical-sizing: inherit\; font-size-adjust: inherit\; font-kerning: inherit\; font-feature-settings: inherit\; font-variation-settings: inherit\; font-language-override: inherit\; font-size: 14px\;">11:30 a.m.\, 12:30 p.m.\, and 2:30 p.m.</strong> &ndash\; Mock trials in our historic courtroom<br style="box-sizing: border-box\;"><strong fr-original-style="box-sizing: border-box\; font-weight: 700\; margin: 0px\; padding: 0px\; border: 0px\; font-style: inherit\; font-variant: inherit\; font-stretch: inherit\; line-height: inherit\; font-family: inherit\; font-optical-sizing: inherit\; font-size-adjust: inherit\; font-kerning: inherit\; font-feature-settings: inherit\; font-variation-settings: inherit\; font-language-override: inherit\; font-size: 14px\;" style="box-sizing: border-box\; font-weight: 700\; margin: 0px\; padding: 0px\; border: 0px\; font-style: inherit\; font-variant: inherit\; font-stretch: inherit\; line-height: inherit\; font-family: inherit\; font-optical-sizing: inherit\; font-size-adjust: inherit\; font-kerning: inherit\; font-feature-settings: inherit\; font-variation-settings: inherit\; font-language-override: inherit\; font-size: 14px\;">1 p.m.</strong> &ndash\; Panel discussion with local journalists<br style="box-sizing: border-box\;"><strong fr-original-style="box-sizing: border-box\; font-weight: 700\; margin: 0px\; padding: 0px\; border: 0px\; font-style: inherit\; font-variant: inherit\; font-stretch: inherit\; line-height: inherit\; font-family: inherit\; font-optical-sizing: inherit\; font-size-adjust: inherit\; font-kerning: inherit\; font-feature-settings: inherit\; font-variation-settings: inherit\; font-language-override: inherit\; font-size: 14px\;" style="box-sizing: border-box\; font-weight: 700\; margin: 0px\; padding: 0px\; border: 0px\; font-style: inherit\; font-variant: inherit\; font-stretch: inherit\; line-height: inherit\; font-family: inherit\; font-optical-sizing: inherit\; font-size-adjust: inherit\; font-kerning: inherit\; font-feature-settings: inherit\; font-variation-settings: inherit\; font-language-override: inherit\; font-size: 14px\;">3:30 p.m.&nbsp\;</strong>&ndash\; Performance by the Children of the American Revolution of <em style="box-sizing: border-box\; margin: 0px\; padding: 0px\; border: 0px\; font-style: italic\; font-variant: inherit\; font-weight: inherit\; font-stretch: inherit\; line-height: inherit\; font-family: inherit\; font-optical-sizing: inherit\; font-size-adjust: inherit\; font-kerning: inherit\; font-feature-settings: inherit\; font-variation-settings: inherit\; font-language-override: inherit\; font-size: 14px\;">The American Revolution: 1783 &ndash\; 1789</em> by Ron Fink and John Heath</p><p style="box-sizing: border-box\; margin: 0px 0px 20px\; padding: 0px\; border: 0px\; font-style: normal\; font-variant-ligatures: normal\; font-variant-caps: normal\; font-variant-numeric: inherit\; font-variant-east-asian: inherit\; font-variant-alternates: inherit\; font-variant-position: inherit\; font-variant-emoji: inherit\; font-weight: 400\; font-stretch: inherit\; line-height: inherit\; font-family: Roboto\; font-optical-sizing: inherit\; font-size-adjust: inherit\; font-kerning: inherit\; font-feature-settings: inherit\; font-variation-settings: inherit\; font-language-override: inherit\; font-size: 14px\; color: rgb(51\, 51\, 51)\; letter-spacing: normal\; orphans: 2\; text-align: start\; text-indent: 0px\; text-transform: none\; widows: 2\; word-spacing: 0px\; -webkit-text-stroke-width: 0px\; white-space: normal\; background-color: rgb(255\, 255\, 255)\; text-decoration-thickness: initial\; text-decoration-style: initial\; text-decoration-color: initial\;">Enjoy hands-on activities and museum tours throughout the day.</p><p style="box-sizing: border-box\; margin: 0px 0px 20px\; padding: 0px\; border: 0px\; font-style: normal\; font-variant-ligatures: normal\; font-variant-caps: normal\; font-variant-numeric: inherit\; font-variant-east-asian: inherit\; font-variant-alternates: inherit\; font-variant-position: inherit\; font-variant-emoji: inherit\; font-weight: 400\; font-stretch: inherit\; line-height: inherit\; font-family: Roboto\; font-optical-sizing: inherit\; font-size-adjust: inherit\; font-kerning: inherit\; font-feature-settings: inherit\; font-variation-settings: inherit\; font-language-override: inherit\; font-size: 14px\; color: rgb(51\, 51\, 51)\; letter-spacing: normal\; orphans: 2\; text-align: start\; text-indent: 0px\; text-transform: none\; widows: 2\; word-spacing: 0px\; -webkit-text-stroke-width: 0px\; white-space: normal\; background-color: rgb(255\, 255\, 255)\; text-decoration-thickness: initial\; text-decoration-style: initial\; text-decoration-color: initial\;">Thank you to our partners\, including the Smithsonian&rsquo\;s Democracy in Dialogue Virtual Exchange Program\, which makes our Teen Council possible.<br><br>Presenting Sponsor: Orlando Health Arnold Palmer Hospital for Children<br>Additional Support: Downtown Development Board</p></body></html>
LOCATION:
UID:e.2498.1438757
SEQUENCE:3
DTSTAMP:20260422T084909Z
URL:https://members.doporlando.com/dop-events/Details/free-access-day-america-250-celebration-1702958?sourceTypeId=Hub
END:VEVENT
END:VCALENDAR
