BEGIN:VCALENDAR
VERSION:2.0
PRODID:-//ChamberMaster//Event Calendar 2.0//EN
METHOD:PUBLISH
X-PUBLISHED-TTL:P1H
REFRESH-INTERVAL:P1H
CALSCALE:GREGORIAN
BEGIN:VTIMEZONE
TZID:America/New_York
BEGIN:DAYLIGHT
RRULE:FREQ=YEARLY;BYMONTH=3;BYDAY=2SU
DTSTART:20070101T000000
TZOFFSETFROM:-0500
TZOFFSETTO:-0400
TZNAME:Eastern Daylight Time
END:DAYLIGHT
BEGIN:STANDARD
RRULE:FREQ=YEARLY;BYMONTH=11;BYDAY=1SU
DTSTART:20070101T000000
TZOFFSETFROM:-0400
TZOFFSETTO:-0500
TZNAME:Eastern Standard Time
END:STANDARD
END:VTIMEZONE
BEGIN:VEVENT
DTSTART;VALUE=DATE:20260403
DTEND;VALUE=DATE:20260404
TRANSP:TRANSPARENT
X-MICROSOFT-CDO-ALLDAYEVENT:TRUE
SUMMARY:Friday Experience: Breakfast All Day\, Lunch Special & Happy Hour
DESCRIPTION:Start your Friday at I Love Orlando Café with breakfast served all day\, featuring a variety of options crafted to satisfy every palate.\n\nJoin us from 12:00 PM to 3:00 PM for our daily lunch special\, designed for Downtown Orlando professionals seeking quality\, variety\, and value.\n\nIn the afternoon\, transition into Happy Hour and enjoy the best ambiance in Downtown Orlando\, combining great drinks\, a welcoming atmosphere\, and scenic surroundings.
X-ALT-DESC;FMTTYPE=text/html:Start your Friday at I Love Orlando Café with breakfast served all day\, featuring a variety of options crafted to satisfy every palate.\n\nJoin us from 12:00 PM to 3:00 PM for our daily lunch special\, designed for Downtown Orlando professionals seeking quality\, variety\, and value.\n\nIn the afternoon\, transition into Happy Hour and enjoy the best ambiance in Downtown Orlando\, combining great drinks\, a welcoming atmosphere\, and scenic surroundings.
LOCATION:151 E Washington St Orlando FL 32801
UID:e.2498.1434293
SEQUENCE:3
DTSTAMP:20260422T084348Z
URL:https://members.doporlando.com/dop-events/Details/friday-experience-breakfast-all-day-lunch-special-happy-hour-1697843?sourceTypeId=Hub
END:VEVENT
END:VCALENDAR
