BEGIN:VCALENDAR
VERSION:2.0
PRODID:-//ChamberMaster//Event Calendar 2.0//EN
METHOD:PUBLISH
X-PUBLISHED-TTL:P1H
REFRESH-INTERVAL:P1H
CALSCALE:GREGORIAN
BEGIN:VTIMEZONE
TZID:America/New_York
BEGIN:DAYLIGHT
RRULE:FREQ=YEARLY;BYMONTH=3;BYDAY=2SU
DTSTART:20070101T000000
TZOFFSETFROM:-0500
TZOFFSETTO:-0400
TZNAME:Eastern Daylight Time
END:DAYLIGHT
BEGIN:STANDARD
RRULE:FREQ=YEARLY;BYMONTH=11;BYDAY=1SU
DTSTART:20070101T000000
TZOFFSETFROM:-0400
TZOFFSETTO:-0500
TZNAME:Eastern Standard Time
END:STANDARD
END:VTIMEZONE
BEGIN:VEVENT
DTSTART;TZID=America/New_York:20260528T013000
DTEND;TZID=America/New_York:20260528T143000
X-MICROSOFT-CDO-ALLDAYEVENT:FALSE
SUMMARY:LIFE on the Big Screen - Book Club
DESCRIPTION:Discover what’s happening at your local library as Vanessa Neblett from the Orange County Library System showcases upcoming book clubs and craft events! This quarterly event is part of the LIFE Information for Elders Series. To register\, please email OfficeonAging@ocfl.net or call 407-836-7446.
X-ALT-DESC;FMTTYPE=text/html:Discover what’s happening at your local library as Vanessa Neblett from the Orange County Library System showcases upcoming book clubs and craft events! This quarterly event is part of the LIFE Information for Elders Series. To register\, please email OfficeonAging@ocfl.net or call 407-836-7446.
LOCATION:101 E Central Blvd Orlando FL 32801
UID:e.2498.1442974
SEQUENCE:3
DTSTAMP:20260422T090215Z
URL:https://members.doporlando.com/dop-events/Details/life-on-the-big-screen-book-club-1709062?sourceTypeId=Hub
END:VEVENT
END:VCALENDAR
