BEGIN:VCALENDAR
VERSION:2.0
PRODID:-//ChamberMaster//Event Calendar 2.0//EN
METHOD:PUBLISH
X-PUBLISHED-TTL:P1H
REFRESH-INTERVAL:P1H
CALSCALE:GREGORIAN
BEGIN:VTIMEZONE
TZID:America/New_York
BEGIN:DAYLIGHT
RRULE:FREQ=YEARLY;BYMONTH=3;BYDAY=2SU
DTSTART:20070101T000000
TZOFFSETFROM:-0500
TZOFFSETTO:-0400
TZNAME:Eastern Daylight Time
END:DAYLIGHT
BEGIN:STANDARD
RRULE:FREQ=YEARLY;BYMONTH=11;BYDAY=1SU
DTSTART:20070101T000000
TZOFFSETFROM:-0400
TZOFFSETTO:-0500
TZNAME:Eastern Standard Time
END:STANDARD
END:VTIMEZONE
BEGIN:VEVENT
DTSTART;TZID=America/New_York:20260503T140000
DTEND;TZID=America/New_York:20260503T150000
X-MICROSOFT-CDO-ALLDAYEVENT:FALSE
SUMMARY:Local Author Festival
DESCRIPTION:Meet & greet local authors at our Local Author Festival. Authors from a variety of genres will share their experiences and books. Each author will have books available for purchase and signing.
X-ALT-DESC;FMTTYPE=text/html:Meet & greet local authors at our Local Author Festival. Authors from a variety of genres will share their experiences and books. Each author will have books available for purchase and signing.
LOCATION:101 E Central Blvd Orlando FL 32801
UID:e.2498.1442970
SEQUENCE:3
DTSTAMP:20260422T084458Z
URL:https://members.doporlando.com/dop-events/Details/local-author-festival-1709058?sourceTypeId=Hub
END:VEVENT
END:VCALENDAR
