BEGIN:VCALENDAR
VERSION:2.0
PRODID:-//ChamberMaster//Event Calendar 2.0//EN
METHOD:PUBLISH
X-PUBLISHED-TTL:P1H
REFRESH-INTERVAL:P1H
CALSCALE:GREGORIAN
BEGIN:VTIMEZONE
TZID:America/New_York
BEGIN:DAYLIGHT
RRULE:FREQ=YEARLY;BYMONTH=3;BYDAY=2SU
DTSTART:20070101T000000
TZOFFSETFROM:-0500
TZOFFSETTO:-0400
TZNAME:Eastern Daylight Time
END:DAYLIGHT
BEGIN:STANDARD
RRULE:FREQ=YEARLY;BYMONTH=11;BYDAY=1SU
DTSTART:20070101T000000
TZOFFSETFROM:-0400
TZOFFSETTO:-0500
TZNAME:Eastern Standard Time
END:STANDARD
END:VTIMEZONE
BEGIN:VEVENT
DTSTART;TZID=America/New_York:20260524T120000
DTEND;TZID=America/New_York:20260524T160000
X-MICROSOFT-CDO-ALLDAYEVENT:FALSE
SUMMARY:Sensory Sunday: Summer Soiree
DESCRIPTION:Long days\, sandy beaches\, and splish-splashing in the water make summer a great time to throw a soiree with your family and friends! Step into a sensory-friendly experience the whole family can enjoy as you celebrate the beginnings of summer and Asian American\, Native Hawaiian\, Pacific Islander month. Learn about the blending of cultures here in Central Florida and beat the summer heat with a day of indoor family-friendly fun! Admission is free for this event.\n\nDuring Sensory Sundays\, we aim to provide a welcoming and comfortable experience for guests with autism spectrum disorder and sensory-processing sensitivity. To do this we have adopted some basic accommodations\, including access to a social narrative to help plan your visit\, lowered or muted audio in exhibits\, and limited use of flashing or moving lights. We also provide access to noise-reducing earmuffs\, fidget/sensory toys\, and a quiet space to utilize during your visit. Additionally\, the History Center has created a variety of sensory-friendly activities available throughout the museum to engage a wide variety of guests with hands-on history learning.\n\nAdmission to this event is free thanks to Orlando Health Arnold Palmer Hospital for Children.
X-ALT-DESC;FMTTYPE=text/html:<!DOCTYPE html><html><head><title></title></head><body aria-disabled="false"><p>Long days\, sandy beaches\, and splish-splashing in the water make summer a great time to throw a soiree with your family and friends! Step into a sensory-friendly experience the whole family can enjoy as you celebrate the beginnings of summer and Asian American\, Native Hawaiian\, Pacific Islander month. Learn about the blending of cultures here in Central Florida and beat the summer heat with a day of indoor family-friendly fun! Admission is free for this event.<br><br>During Sensory Sundays\, we aim to provide a welcoming and comfortable experience for guests with autism spectrum disorder and sensory-processing sensitivity. To do this we have adopted some basic accommodations\, including access to a social narrative to help plan your visit\, lowered or muted audio in exhibits\, and limited use of flashing or moving lights. We also provide access to noise-reducing earmuffs\, fidget/sensory toys\, and a quiet space to utilize during your visit. Additionally\, the History Center has created a variety of sensory-friendly activities available throughout the museum to engage a wide variety of guests with hands-on history learning.<br><br>Admission to this event is free thanks to Orlando Health Arnold Palmer Hospital for Children.</p></body></html>
LOCATION:
UID:e.2498.1438760
SEQUENCE:3
DTSTAMP:20260422T084030Z
URL:https://members.doporlando.com/dop-events/Details/sensory-sunday-summer-soiree-1702961?sourceTypeId=Hub
END:VEVENT
END:VCALENDAR
