BEGIN:VCALENDAR
VERSION:2.0
PRODID:-//ChamberMaster//Event Calendar 2.0//EN
METHOD:PUBLISH
X-PUBLISHED-TTL:P1H
REFRESH-INTERVAL:P1H
CALSCALE:GREGORIAN
BEGIN:VTIMEZONE
TZID:America/New_York
BEGIN:DAYLIGHT
RRULE:FREQ=YEARLY;BYMONTH=3;BYDAY=2SU
DTSTART:20070101T000000
TZOFFSETFROM:-0500
TZOFFSETTO:-0400
TZNAME:Eastern Daylight Time
END:DAYLIGHT
BEGIN:STANDARD
RRULE:FREQ=YEARLY;BYMONTH=11;BYDAY=1SU
DTSTART:20070101T000000
TZOFFSETFROM:-0400
TZOFFSETTO:-0500
TZNAME:Eastern Standard Time
END:STANDARD
END:VTIMEZONE
BEGIN:VEVENT
DTSTART;VALUE=DATE:20260404
DTEND;VALUE=DATE:20260405
TRANSP:TRANSPARENT
X-MICROSOFT-CDO-ALLDAYEVENT:TRUE
SUMMARY:Spring Fiesta Weekend at I Love Orlando Café
DESCRIPTION:Celebrate the vibrant energy of spring in Downtown Orlando during the Spring Fiesta weekend at Lake Eola Park and continue the experience at I Love Orlando Café.\n\nLocated just steps from the festivities\, our café offers the perfect place to relax\, recharge\, and enjoy breakfast all day\, brunch favorites\, and refreshing drinks in a lively and welcoming atmosphere.\n\nIdeal for families\, friends\, and visitors enjoying one of Downtown Orlando’s most colorful weekends.
X-ALT-DESC;FMTTYPE=text/html:Celebrate the vibrant energy of spring in Downtown Orlando during the Spring Fiesta weekend at Lake Eola Park and continue the experience at I Love Orlando Café.\n\nLocated just steps from the festivities\, our café offers the perfect place to relax\, recharge\, and enjoy breakfast all day\, brunch favorites\, and refreshing drinks in a lively and welcoming atmosphere.\n\nIdeal for families\, friends\, and visitors enjoying one of Downtown Orlando’s most colorful weekends.
LOCATION:151 E Washington St Orlando FL 32801
UID:e.2498.1434302
SEQUENCE:3
DTSTAMP:20260422T085305Z
URL:https://members.doporlando.com/dop-events/Details/spring-fiesta-weekend-at-i-love-orlando-caf-1697852?sourceTypeId=Hub
END:VEVENT
END:VCALENDAR
