BEGIN:VCALENDAR
VERSION:2.0
PRODID:-//ChamberMaster//Event Calendar 2.0//EN
METHOD:PUBLISH
X-PUBLISHED-TTL:P1H
REFRESH-INTERVAL:P1H
CALSCALE:GREGORIAN
BEGIN:VTIMEZONE
TZID:America/New_York
BEGIN:DAYLIGHT
RRULE:FREQ=YEARLY;BYMONTH=3;BYDAY=2SU
DTSTART:20070101T000000
TZOFFSETFROM:-0500
TZOFFSETTO:-0400
TZNAME:Eastern Daylight Time
END:DAYLIGHT
BEGIN:STANDARD
RRULE:FREQ=YEARLY;BYMONTH=11;BYDAY=1SU
DTSTART:20070101T000000
TZOFFSETFROM:-0400
TZOFFSETTO:-0500
TZNAME:Eastern Standard Time
END:STANDARD
END:VTIMEZONE
BEGIN:VEVENT
DTSTART;VALUE=DATE:20260402
DTEND;VALUE=DATE:20260403
TRANSP:TRANSPARENT
X-MICROSOFT-CDO-ALLDAYEVENT:TRUE
SUMMARY:Thirsty Thursday at I Love Orlando Café
DESCRIPTION:Kick off your weekend early at I Love Orlando Café with our signature Thirsty Thursday experience in the heart of Downtown Orlando\, just steps from Lake Eola Park.\n\nEnjoy a vibrant yet relaxed atmosphere\, curated drink selections\, and the perfect setting to unwind after work. Whether you’re meeting friends or decompressing after a long day\, this is your go-to Thursday destination.
X-ALT-DESC;FMTTYPE=text/html:Kick off your weekend early at I Love Orlando Café with our signature Thirsty Thursday experience in the heart of Downtown Orlando\, just steps from Lake Eola Park.\n\nEnjoy a vibrant yet relaxed atmosphere\, curated drink selections\, and the perfect setting to unwind after work. Whether you’re meeting friends or decompressing after a long day\, this is your go-to Thursday destination.
LOCATION:151 E Washington St Orlando FL 32801
UID:e.2498.1434288
SEQUENCE:3
DTSTAMP:20260422T085402Z
URL:https://members.doporlando.com/dop-events/Details/thirsty-thursday-at-i-love-orlando-caf-1697838?sourceTypeId=Hub
END:VEVENT
END:VCALENDAR
